BEGIN:VCALENDAR
VERSION:2.0
PRODID:-//St. Matthew  School - ECPv6.15.18//NONSGML v1.0//EN
CALSCALE:GREGORIAN
METHOD:PUBLISH
X-WR-CALNAME:St. Matthew  School
X-ORIGINAL-URL:https://stmattschool.org
X-WR-CALDESC:Events for St. Matthew  School
REFRESH-INTERVAL;VALUE=DURATION:PT1H
X-Robots-Tag:noindex
X-PUBLISHED-TTL:PT1H
BEGIN:VTIMEZONE
TZID:America/Los_Angeles
BEGIN:DAYLIGHT
TZOFFSETFROM:-0800
TZOFFSETTO:-0700
TZNAME:PDT
DTSTART:20250309T100000
END:DAYLIGHT
BEGIN:STANDARD
TZOFFSETFROM:-0700
TZOFFSETTO:-0800
TZNAME:PST
DTSTART:20251102T090000
END:STANDARD
BEGIN:DAYLIGHT
TZOFFSETFROM:-0800
TZOFFSETTO:-0700
TZNAME:PDT
DTSTART:20260308T100000
END:DAYLIGHT
BEGIN:STANDARD
TZOFFSETFROM:-0700
TZOFFSETTO:-0800
TZNAME:PST
DTSTART:20261101T090000
END:STANDARD
BEGIN:DAYLIGHT
TZOFFSETFROM:-0800
TZOFFSETTO:-0700
TZNAME:PDT
DTSTART:20270314T100000
END:DAYLIGHT
BEGIN:STANDARD
TZOFFSETFROM:-0700
TZOFFSETTO:-0800
TZNAME:PST
DTSTART:20271107T090000
END:STANDARD
END:VTIMEZONE
BEGIN:VEVENT
DTSTART;TZID=America/Los_Angeles:20260423T090000
DTEND;TZID=America/Los_Angeles:20260423T094500
DTSTAMP:20260423T051920
CREATED:20260224T223257Z
LAST-MODIFIED:20260224T223257Z
UID:9203-1776934800-1776937500@stmattschool.org
SUMMARY:School Mass with 5th Grade Leaders
DESCRIPTION:
URL:https://stmattschool.org/event/school-mass-with-5th-grade-leaders-11/
LOCATION:St. Matthew Church
END:VEVENT
BEGIN:VEVENT
DTSTART;VALUE=DATE:20260424
DTEND;VALUE=DATE:20260425
DTSTAMP:20260423T051920
CREATED:20260330T164726Z
LAST-MODIFIED:20260330T164726Z
UID:9218-1776988800-1777075199@stmattschool.org
SUMMARY:Huff n Puff Booster Fun Run
DESCRIPTION:
URL:https://stmattschool.org/event/huff-n-puff-booster-fun-run/
END:VEVENT
BEGIN:VEVENT
DTSTART;VALUE=DATE:20260424
DTEND;VALUE=DATE:20260425
DTSTAMP:20260423T051920
CREATED:20260330T164747Z
LAST-MODIFIED:20260330T164747Z
UID:9220-1776988800-1777075199@stmattschool.org
SUMMARY:Spirit Day
DESCRIPTION:
URL:https://stmattschool.org/event/spirit-day-103/
END:VEVENT
BEGIN:VEVENT
DTSTART;TZID=America/Los_Angeles:20260430T090000
DTEND;TZID=America/Los_Angeles:20260430T094500
DTSTAMP:20260423T051920
CREATED:20260224T223436Z
LAST-MODIFIED:20260224T223436Z
UID:9209-1777539600-1777542300@stmattschool.org
SUMMARY:School Mass with 8th Grade Leaders
DESCRIPTION:
URL:https://stmattschool.org/event/school-mass-with-8th-grade-leaders-9/
LOCATION:St. Matthew Church
END:VEVENT
END:VCALENDAR